BEGIN:VCALENDAR
VERSION:2.0
PRODID:-//wp-events-plugin.com//7.2.3.1//EN
TZID:America/New_York
X-WR-TIMEZONE:America/New_York
BEGIN:VEVENT
UID:977@milltownquilters.com
DTSTART;TZID=America/New_York:20261022T000000
DTEND;TZID=America/New_York:20261024T000000
DTSTAMP:20260412T180113Z
URL:https://milltownquilters.com/events/faithful-circle-2026-quilt-show/
SUMMARY:Faithful Circle 2026 Quilt Show
DESCRIPTION:
CATEGORIES:Quilt Shows
END:VEVENT
BEGIN:VTIMEZONE
TZID:America/New_York
X-LIC-LOCATION:America/New_York
BEGIN:DAYLIGHT
DTSTART:20260308T030000
TZOFFSETFROM:-0500
TZOFFSETTO:-0400
TZNAME:EDT
END:DAYLIGHT
END:VTIMEZONE
END:VCALENDAR